BEGIN:VCALENDAR
VERSION:2.0
PRODID:spatie/icalendar-generator
DESCRIPTION:Events from Lahden Baptistil&amp;auml\;hetysseurakunta
X-WR-CALDESC:Events from Lahden Baptistil&amp;auml\;hetysseurakunta
REFRESH-INTERVAL;VALUE=DURATION:PT1440M
X-PUBLISHED-TTL:PT1440M
BEGIN:VTIMEZONE
TZID:Europe/Helsinki
BEGIN:STANDARD
DTSTART:20161030T040000Z
TZOFFSETFROM:+0300
TZOFFSETTO:+0200
END:STANDARD
BEGIN:DAYLIGHT
DTSTART:20170326T030000Z
TZOFFSETFROM:+0200
TZOFFSETTO:+0300
END:DAYLIGHT
END:VTIMEZONE
BEGIN:VTIMEZONE
TZID:UTC
BEGIN:STANDARD
DTSTART:20250728T030859Z
TZOFFSETFROM:+0000
TZOFFSETTO:+0000
END:STANDARD
END:VTIMEZONE
BEGIN:VEVENT
UID:105-19
DTSTAMP:20260424T030859Z
SUMMARY:Kiirastorstain ehtoolliskokous
LOCATION:
ORGANIZER;CN=Avustaja:MAILTO:toni.tolvanen@yahoo.se
DTSTART;TZID=Europe/Helsinki:20170413T190000
DTEND;TZID=Europe/Helsinki:20170413T200000
X-ALT-DESC;FMTTYPE=TEXT/HTML:Vanhimmisto
CATEGORIES:General
URL;VALUE=URI:https://lahdenbaptistit.fi/mc-events/kiirastorstain-ehtoollis
 kokous/?mc_id=105
END:VEVENT
END:VCALENDAR