BEGIN:VCALENDAR
VERSION:2.0
PRODID:spatie/icalendar-generator
DESCRIPTION:Events from Lahden Baptistil&amp;auml\;hetysseurakunta
X-WR-CALDESC:Events from Lahden Baptistil&amp;auml\;hetysseurakunta
REFRESH-INTERVAL;VALUE=DURATION:PT1440M
X-PUBLISHED-TTL:PT1440M
BEGIN:VTIMEZONE
TZID:Europe/Helsinki
BEGIN:STANDARD
DTSTART:20161030T040000Z
TZOFFSETFROM:+0300
TZOFFSETTO:+0200
END:STANDARD
BEGIN:DAYLIGHT
DTSTART:20170326T030000Z
TZOFFSETFROM:+0200
TZOFFSETTO:+0300
END:DAYLIGHT
END:VTIMEZONE
BEGIN:VTIMEZONE
TZID:UTC
BEGIN:STANDARD
DTSTART:20250728T000445Z
TZOFFSETFROM:+0000
TZOFFSETTO:+0000
END:STANDARD
END:VTIMEZONE
BEGIN:VEVENT
UID:115-28
DTSTAMP:20260424T000445Z
SUMMARY:Seurakunnan paastopäivä
LOCATION:
ORGANIZER;CN=Avustaja:MAILTO:toni.tolvanen@yahoo.se
RRULE:FREQ=WEEKLY;COUNT=8
DTSTART;TZID=Europe/Helsinki:20170410T210000
DTEND;TZID=Europe/Helsinki:20170411T210000
X-ALT-DESC;FMTTYPE=TEXT/HTML:\"Kuuluttakaa pyhä paasto\, kutsukaa koolle j
 uhlakokous\, kootkaa vanhimmat ja kaikki maan asukkaat Herran\, teidän Ju
 malanne\, huoneeseen ja huutakaa Herran puoleen.\" (Joel 1:14) Seurakunnan
  yhteiset paastopäivät kerran viikossa maanantai-illasta klo 21 tiistai-
 iltaan klo 21. Paaston ja rukouksen aiheita: - Lahtelaisten ja Lahden puol
 esta\, herätystä ja Jumalan tahdon toteutumista - Lähetystyön puolesta
  Japanissa\, Israelissa\, Espanjassa\, Keniassa ja&amp;hellip\;
CATEGORIES:General
URL;VALUE=URI:https://lahdenbaptistit.fi/mc-events/seurakunnan-paastopaiva/
 ?mc_id=115
END:VEVENT
END:VCALENDAR