BEGIN:VCALENDAR
VERSION:2.0
PRODID:spatie/icalendar-generator
DESCRIPTION:Events from Lahden Baptistil&amp;auml\;hetysseurakunta
X-WR-CALDESC:Events from Lahden Baptistil&amp;auml\;hetysseurakunta
REFRESH-INTERVAL;VALUE=DURATION:PT1440M
X-PUBLISHED-TTL:PT1440M
BEGIN:VTIMEZONE
TZID:Europe/Helsinki
BEGIN:STANDARD
DTSTART:20161030T040000Z
TZOFFSETFROM:+0300
TZOFFSETTO:+0200
END:STANDARD
BEGIN:DAYLIGHT
DTSTART:20170326T030000Z
TZOFFSETFROM:+0200
TZOFFSETTO:+0300
END:DAYLIGHT
BEGIN:STANDARD
DTSTART:20171029T040000Z
TZOFFSETFROM:+0300
TZOFFSETTO:+0200
END:STANDARD
END:VTIMEZONE
BEGIN:VTIMEZONE
TZID:UTC
BEGIN:STANDARD
DTSTART:20250726T090038Z
TZOFFSETFROM:+0000
TZOFFSETTO:+0000
END:STANDARD
END:VTIMEZONE
BEGIN:VEVENT
UID:145-30
DTSTAMP:20260422T090038Z
SUMMARY:Päivärukous
LOCATION:
ORGANIZER;CN=Avustaja:MAILTO:toni.tolvanen@yahoo.se
RRULE:FREQ=DAILY;BYDAY=MO,TU,WE,TH,FR;COUNT=33
DTSTART;TZID=Europe/Helsinki:20170517T120000
DTEND;TZID=Europe/Helsinki:20170517T130000
X-ALT-DESC;FMTTYPE=TEXT/HTML:Kokoonnumme lukemaan Sanaa ja rukoilemaan arki
 päivinä (ei torstaisin) klo 12-13. Rukousaiheina mm. lähetystyö ja seu
 rakunnan asiat
CATEGORIES:General
URL;VALUE=URI:https://lahdenbaptistit.fi/mc-events/paivarukous-2/?mc_id=145
END:VEVENT
END:VCALENDAR