BEGIN:VCALENDAR
VERSION:2.0
PRODID:spatie/icalendar-generator
DESCRIPTION:Events from Lahden Baptistil&amp;auml\;hetysseurakunta
X-WR-CALDESC:Events from Lahden Baptistil&amp;auml\;hetysseurakunta
REFRESH-INTERVAL;VALUE=DURATION:PT1440M
X-PUBLISHED-TTL:PT1440M
BEGIN:VTIMEZONE
TZID:Europe/Helsinki
BEGIN:STANDARD
DTSTART:20191027T040000Z
TZOFFSETFROM:+0300
TZOFFSETTO:+0200
END:STANDARD
BEGIN:DAYLIGHT
DTSTART:20200329T030000Z
TZOFFSETFROM:+0200
TZOFFSETTO:+0300
END:DAYLIGHT
END:VTIMEZONE
BEGIN:VTIMEZONE
TZID:UTC
BEGIN:STANDARD
DTSTART:20250727T202118Z
TZOFFSETFROM:+0000
TZOFFSETTO:+0000
END:STANDARD
END:VTIMEZONE
BEGIN:VEVENT
UID:1891-460
DTSTAMP:20260423T202118Z
SUMMARY:Rukousta kodeissa
LOCATION:
ORGANIZER;CN=Avustaja:MAILTO:toni.tolvanen@yahoo.se
RRULE:FREQ=WEEKLY;COUNT=8
DTSTART;TZID=Europe/Helsinki:20200318T120000
DTEND;TZID=Europe/Helsinki:20200318T133000
X-ALT-DESC;FMTTYPE=TEXT/HTML:Rukoillaan kodeissamme tilaisuuksiin kokoontum
 isen sijaan\, esim. seuraavien aiheiden puolesta: - Koronavirustilanne ja 
 esivallalle viisautta tehdä oikeat toimenpiteet - Seurakunnan tukemat lä
 hetyskentät - herätyksen puolesta Lahdessa - seurakuntalaisten keskinäi
 nen yhteys - uupuneille/masentuneille seurakuntalaisille virvoitusta - Jum
 alan johdatusta seurakunnan toiminnassa\, tila-asiassa ja taloudessa
CATEGORIES:General
URL;VALUE=URI:https://lahdenbaptistit.fi/mc-events/rukousta-kodeissa/?mc_id
 =1891
END:VEVENT
END:VCALENDAR