BEGIN:VCALENDAR
VERSION:2.0
PRODID:spatie/icalendar-generator
DESCRIPTION:Events from Lahden Baptistil&amp;auml\;hetysseurakunta
X-WR-CALDESC:Events from Lahden Baptistil&amp;auml\;hetysseurakunta
REFRESH-INTERVAL;VALUE=DURATION:PT1440M
X-PUBLISHED-TTL:PT1440M
BEGIN:VTIMEZONE
TZID:Europe/Helsinki
BEGIN:DAYLIGHT
DTSTART:20170326T030000Z
TZOFFSETFROM:+0200
TZOFFSETTO:+0300
END:DAYLIGHT
BEGIN:STANDARD
DTSTART:20171029T040000Z
TZOFFSETFROM:+0300
TZOFFSETTO:+0200
END:STANDARD
BEGIN:DAYLIGHT
DTSTART:20180325T030000Z
TZOFFSETFROM:+0200
TZOFFSETTO:+0300
END:DAYLIGHT
END:VTIMEZONE
BEGIN:VTIMEZONE
TZID:UTC
BEGIN:STANDARD
DTSTART:20250727T204223Z
TZOFFSETFROM:+0000
TZOFFSETTO:+0000
END:STANDARD
END:VTIMEZONE
BEGIN:VEVENT
UID:529-92
DTSTAMP:20260423T204223Z
SUMMARY:Elojuhlat Alavudella
LOCATION:
ORGANIZER;CN=Avustaja:MAILTO:toni.tolvanen@yahoo.se
DTSTART;TZID=Europe/Helsinki:20170923T120000
DTEND;TZID=Europe/Helsinki:20170923T190000
X-ALT-DESC;FMTTYPE=TEXT/HTML:Klo 12.00 Raamattutunti: Viljo R. Koivisto Klo
  13.30 Lähetyskokous: Olavi Eskola Klo 15.00 Ruokailu Klo 16.00 Raamattut
 unti: Olavi Eskola\, lauluryhmä Kurikasta Klo 17.00 Kahvit Klo 17.30 Pä
 ätösjuhla: Teppo Lehtomäki\, Tenho Keväänranta ja lauluryhmä Kurikas
 ta Yhteiskuljetus Alavudelle bussilla\, ilmoittautuminen kuljetukseen seur
 akunnassa. Järjestäjänä Alavuden Baptistiseurakunta
CATEGORIES:General
URL;VALUE=URI:https://lahdenbaptistit.fi/mc-events/elojuhlat-alavudella/?mc
 _id=529
END:VEVENT
END:VCALENDAR