BEGIN:VCALENDAR
VERSION:2.0
PRODID:spatie/icalendar-generator
DESCRIPTION:Events from Lahden Baptistil&amp;auml\;hetysseurakunta
X-WR-CALDESC:Events from Lahden Baptistil&amp;auml\;hetysseurakunta
REFRESH-INTERVAL;VALUE=DURATION:PT1440M
X-PUBLISHED-TTL:PT1440M
BEGIN:VTIMEZONE
TZID:Europe/Helsinki
BEGIN:DAYLIGHT
DTSTART:20170326T030000Z
TZOFFSETFROM:+0200
TZOFFSETTO:+0300
END:DAYLIGHT
BEGIN:STANDARD
DTSTART:20171029T040000Z
TZOFFSETFROM:+0300
TZOFFSETTO:+0200
END:STANDARD
BEGIN:DAYLIGHT
DTSTART:20180325T030000Z
TZOFFSETFROM:+0200
TZOFFSETTO:+0300
END:DAYLIGHT
END:VTIMEZONE
BEGIN:VTIMEZONE
TZID:UTC
BEGIN:STANDARD
DTSTART:20250727T223025Z
TZOFFSETFROM:+0000
TZOFFSETTO:+0000
END:STANDARD
END:VTIMEZONE
BEGIN:VEVENT
UID:564-105
DTSTAMP:20260423T223025Z
SUMMARY:Raamattusunnuntai
LOCATION:
ORGANIZER;CN=Avustaja:MAILTO:toni.tolvanen@yahoo.se
DTSTART;TZID=Europe/Helsinki:20170924T130000
DTEND;TZID=Europe/Helsinki:20170924T140000
X-ALT-DESC;FMTTYPE=TEXT/HTML:Väinö Viikilä opettaa Pyhän Hengen täytey
 destä Klo 13.00 Opetus 1 n. Klo 14.15 Opetus 2 Kahvit lähetystyön hyvä
 ksi
CATEGORIES:General
URL;VALUE=URI:https://lahdenbaptistit.fi/mc-events/raamattusunnuntai/?mc_id
 =564
END:VEVENT
END:VCALENDAR