BEGIN:VCALENDAR
VERSION:2.0
PRODID:spatie/icalendar-generator
DESCRIPTION:Events from Lahden Baptistil&amp;auml\;hetysseurakunta
X-WR-CALDESC:Events from Lahden Baptistil&amp;auml\;hetysseurakunta
REFRESH-INTERVAL;VALUE=DURATION:PT1440M
X-PUBLISHED-TTL:PT1440M
BEGIN:VTIMEZONE
TZID:Europe/Helsinki
BEGIN:DAYLIGHT
DTSTART:20170326T030000Z
TZOFFSETFROM:+0200
TZOFFSETTO:+0300
END:DAYLIGHT
BEGIN:STANDARD
DTSTART:20171029T040000Z
TZOFFSETFROM:+0300
TZOFFSETTO:+0200
END:STANDARD
BEGIN:DAYLIGHT
DTSTART:20180325T030000Z
TZOFFSETFROM:+0200
TZOFFSETTO:+0300
END:DAYLIGHT
END:VTIMEZONE
BEGIN:VTIMEZONE
TZID:UTC
BEGIN:STANDARD
DTSTART:20250728T000935Z
TZOFFSETFROM:+0000
TZOFFSETTO:+0000
END:STANDARD
END:VTIMEZONE
BEGIN:VEVENT
UID:565-106
DTSTAMP:20260424T000935Z
SUMMARY:Lähetyskokous
LOCATION:
ORGANIZER;CN=Avustaja:MAILTO:toni.tolvanen@yahoo.se
DTSTART;TZID=Europe/Helsinki:20170924T160000
DTEND;TZID=Europe/Helsinki:20170924T170000
X-ALT-DESC;FMTTYPE=TEXT/HTML:Puhuja: Väinö Viikilä Vetäjä: Anne Vaitti
 nen EL1 (kuoro)
CATEGORIES:General
URL;VALUE=URI:https://lahdenbaptistit.fi/mc-events/lahetyskokous-5/?mc_id=5
 65
END:VEVENT
END:VCALENDAR