BEGIN:VCALENDAR
VERSION:2.0
PRODID:spatie/icalendar-generator
DESCRIPTION:Events from Lahden Baptistil&amp;auml\;hetysseurakunta
X-WR-CALDESC:Events from Lahden Baptistil&amp;auml\;hetysseurakunta
REFRESH-INTERVAL;VALUE=DURATION:PT1440M
X-PUBLISHED-TTL:PT1440M
BEGIN:VTIMEZONE
TZID:Europe/Helsinki
BEGIN:DAYLIGHT
DTSTART:20170326T030000Z
TZOFFSETFROM:+0200
TZOFFSETTO:+0300
END:DAYLIGHT
BEGIN:STANDARD
DTSTART:20171029T040000Z
TZOFFSETFROM:+0300
TZOFFSETTO:+0200
END:STANDARD
END:VTIMEZONE
BEGIN:VTIMEZONE
TZID:UTC
BEGIN:STANDARD
DTSTART:20250727T171601Z
TZOFFSETFROM:+0000
TZOFFSETTO:+0000
END:STANDARD
END:VTIMEZONE
BEGIN:VEVENT
UID:619-89
DTSTAMP:20260423T171601Z
SUMMARY:Katuevankeliointia
LOCATION:
ORGANIZER;CN=Avustaja:MAILTO:toni.tolvanen@yahoo.se
RRULE:FREQ=WEEKLY;COUNT=20
DTSTART;TZID=Europe/Helsinki:20170920T180000
DTEND;TZID=Europe/Helsinki:20170920T210000
X-ALT-DESC;FMTTYPE=TEXT/HTML:Katuevankeliointia Lahden kaduilla\, alkaen kl
 o 18.00 ja noin klo 21.00 asti. Tule mukaan kadulle ja/tai rukoilemaan!
CATEGORIES:General
URL;VALUE=URI:https://lahdenbaptistit.fi/mc-events/katuevankeliointia-5/?mc
 _id=619
END:VEVENT
END:VCALENDAR