BEGIN:VCALENDAR
VERSION:2.0
PRODID:spatie/icalendar-generator
DESCRIPTION:Events from Lahden Baptistil&amp;auml\;hetysseurakunta
X-WR-CALDESC:Events from Lahden Baptistil&amp;auml\;hetysseurakunta
REFRESH-INTERVAL;VALUE=DURATION:PT1440M
X-PUBLISHED-TTL:PT1440M
BEGIN:VTIMEZONE
TZID:Europe/Helsinki
BEGIN:DAYLIGHT
DTSTART:20170326T030000Z
TZOFFSETFROM:+0200
TZOFFSETTO:+0300
END:DAYLIGHT
BEGIN:STANDARD
DTSTART:20171029T040000Z
TZOFFSETFROM:+0300
TZOFFSETTO:+0200
END:STANDARD
END:VTIMEZONE
BEGIN:VTIMEZONE
TZID:UTC
BEGIN:STANDARD
DTSTART:20250726T120522Z
TZOFFSETFROM:+0000
TZOFFSETTO:+0000
END:STANDARD
END:VTIMEZONE
BEGIN:VEVENT
UID:259-79
DTSTAMP:20260422T120522Z
SUMMARY:Raamattulauantai
LOCATION:
ORGANIZER;CN=Avustaja:MAILTO:toni.tolvanen@yahoo.se
DTSTART;TZID=Europe/Helsinki:20170819T130000
DTEND;TZID=Europe/Helsinki:20170819T140000
X-ALT-DESC;FMTTYPE=TEXT/HTML:Opettajan Jari Korhonen\, aiheena evankelioint
 i. Opetukset alkavat noin klo 13 ja 14.45\, välissä kahvit.
CATEGORIES:General
URL;VALUE=URI:https://lahdenbaptistit.fi/mc-events/raamattulauantai-6/?mc_i
 d=259
END:VEVENT
END:VCALENDAR